BEGIN:VCALENDAR
VERSION:2.0
PRODID:-//St Clair Township - ECPv6.15.20//NONSGML v1.0//EN
CALSCALE:GREGORIAN
METHOD:PUBLISH
X-ORIGINAL-URL:https://www.stclairtownship.ca
X-WR-CALDESC:Events for St Clair Township
REFRESH-INTERVAL;VALUE=DURATION:PT1H
X-Robots-Tag:noindex
X-PUBLISHED-TTL:PT1H
BEGIN:VTIMEZONE
TZID:UTC
BEGIN:STANDARD
TZOFFSETFROM:+0000
TZOFFSETTO:+0000
TZNAME:UTC
DTSTART:20200101T000000
END:STANDARD
END:VTIMEZONE
BEGIN:VEVENT
DTSTART;TZID=UTC:20220711T150000
DTEND;TZID=UTC:20220711T150000
DTSTAMP:20260423T193224
CREATED:20220517T131522Z
LAST-MODIFIED:20220517T131522Z
UID:9756-1657551600-1657551600@www.stclairtownship.ca
SUMMARY:Council Meeting
DESCRIPTION:Click here for further information. \nAt 3 p.m.\, please click here for our YouTube channel where you will find the live Council meeting.
URL:https://www.stclairtownship.ca/event/council-meeting-122/
LOCATION:St. Clair Civic Centre\, 1155 Emily Street\, Mooretown\, Ontario\, N0N 1M0\, Canada
END:VEVENT
BEGIN:VEVENT
DTSTART;TZID=UTC:20220620T180000
DTEND;TZID=UTC:20220620T180000
DTSTAMP:20260423T193224
CREATED:20220519T161655Z
LAST-MODIFIED:20220519T161655Z
UID:9779-1655748000-1655748000@www.stclairtownship.ca
SUMMARY:Council Meeting
DESCRIPTION:Click here for further information. \nAt 6 p.m.\, please click here for our YouTube channel where you will find the live Council meeting.
URL:https://www.stclairtownship.ca/event/council-meeting-123/
END:VEVENT
BEGIN:VEVENT
DTSTART;TZID=UTC:20220606T150000
DTEND;TZID=UTC:20220606T150000
DTSTAMP:20260423T193224
CREATED:20220517T131442Z
LAST-MODIFIED:20220519T161624Z
UID:9754-1654527600-1654527600@www.stclairtownship.ca
SUMMARY:Council Meeting
DESCRIPTION:Click here for further information. \nAt 3 p.m.\, please click here for our YouTube channel where you will find the live Council meeting.
URL:https://www.stclairtownship.ca/event/council-meeting-121/
LOCATION:St. Clair Civic Centre\, 1155 Emily Street\, Mooretown\, Ontario\, N0N 1M0\, Canada
END:VEVENT
BEGIN:VEVENT
DTSTART;TZID=UTC:20220514T090000
DTEND;TZID=UTC:20220514T160000
DTSTAMP:20260423T193224
CREATED:20220414T142715Z
LAST-MODIFIED:20220414T142715Z
UID:9667-1652518800-1652544000@www.stclairtownship.ca
SUMMARY:Spring Craft & Gift Show
DESCRIPTION:The LC Petrolia Optimist Club is having a Spring Craft & Gift Show with over 60 vendors on Saturday May 14th\, 2022. \nLambton Central Petrolia Optimist Spring Craft & Gift Show\n396 Fletcher St\, Petrolia (in the Market area behind the Petrolia Library)\nSaturday May 14\, 2022\n9 am to 4 pm\nOver 60 vendors\, unique gift ideas\, something for everyone\nFree admission\, Toonie table raffle \nFood and refreshments available (Optimist BBQ )
URL:https://www.stclairtownship.ca/event/spring-craft-gift-show/
END:VEVENT
BEGIN:VEVENT
DTSTART;TZID=UTC:20220502T150000
DTEND;TZID=UTC:20220502T150000
DTSTAMP:20260423T193224
CREATED:20220323T162715Z
LAST-MODIFIED:20220323T162715Z
UID:9592-1651503600-1651503600@www.stclairtownship.ca
SUMMARY:Council Meeting
DESCRIPTION:Click here for further information. \nAt 3 p.m.\, please click here for our YouTube channel where you will find the live Council meeting.
URL:https://www.stclairtownship.ca/event/council-meeting-120/
LOCATION:St. Clair Civic Centre\, 1155 Emily Street\, Mooretown\, Ontario\, N0N 1M0\, Canada
END:VEVENT
BEGIN:VEVENT
DTSTART;VALUE=DATE:20220428
DTEND;VALUE=DATE:20220429
DTSTAMP:20260423T193224
CREATED:20220207T160300Z
LAST-MODIFIED:20220207T160300Z
UID:9439-1651104000-1651190399@www.stclairtownship.ca
SUMMARY:Tax Due Date
DESCRIPTION:Click here for further information.
URL:https://www.stclairtownship.ca/event/tax-due-date-16/
END:VEVENT
BEGIN:VEVENT
DTSTART;TZID=UTC:20220418T180000
DTEND;TZID=UTC:20220418T180000
DTSTAMP:20260423T193224
CREATED:20220323T162628Z
LAST-MODIFIED:20220323T162628Z
UID:9590-1650304800-1650304800@www.stclairtownship.ca
SUMMARY:Council Meeting
DESCRIPTION:Click here for further information. \nAt 6 p.m.\, please click here for our YouTube channel where you will find the live Council meeting.
URL:https://www.stclairtownship.ca/event/council-meeting-119/
LOCATION:St. Clair Civic Centre\, 1155 Emily Street\, Mooretown\, Ontario\, N0N 1M0\, Canada
END:VEVENT
BEGIN:VEVENT
DTSTART;TZID=UTC:20220404T150000
DTEND;TZID=UTC:20220404T150000
DTSTAMP:20260423T193224
CREATED:20220323T162525Z
LAST-MODIFIED:20220323T162538Z
UID:9587-1649084400-1649084400@www.stclairtownship.ca
SUMMARY:Council Meeting
DESCRIPTION:Click here for further information. \nAt 3 p.m.\, please click here for our YouTube channel where you will find the live Council meeting.
URL:https://www.stclairtownship.ca/event/council-meeting-118/
LOCATION:St. Clair Civic Centre\, 1155 Emily Street\, Mooretown\, Ontario\, N0N 1M0\, Canada
END:VEVENT
BEGIN:VEVENT
DTSTART;TZID=UTC:20220321T180000
DTEND;TZID=UTC:20220321T180000
DTSTAMP:20260423T193224
CREATED:20220301T143554Z
LAST-MODIFIED:20220301T143554Z
UID:9480-1647885600-1647885600@www.stclairtownship.ca
SUMMARY:Council Meeting
DESCRIPTION:Click here for further information. \nAt 6 p.m.\, please click here for our YouTube channel where you will find the live Council meeting.
URL:https://www.stclairtownship.ca/event/council-meeting-117/
END:VEVENT
BEGIN:VEVENT
DTSTART;TZID=UTC:20220307T150000
DTEND;TZID=UTC:20220307T150000
DTSTAMP:20260423T193224
CREATED:20220301T143523Z
LAST-MODIFIED:20220301T143523Z
UID:9478-1646665200-1646665200@www.stclairtownship.ca
SUMMARY:Council Meeting
DESCRIPTION:Click here for further information. \nAt 3 p.m.\, please click here for our YouTube channel where you will find the live Council meeting.
URL:https://www.stclairtownship.ca/event/council-meeting-116/
END:VEVENT
BEGIN:VEVENT
DTSTART;TZID=UTC:20220224T170000
DTEND;TZID=UTC:20220224T170000
DTSTAMP:20260423T193224
CREATED:20220207T160104Z
LAST-MODIFIED:20220207T160104Z
UID:9434-1645722000-1645722000@www.stclairtownship.ca
SUMMARY:Operating Budget Meeting
DESCRIPTION:Click here for further information. \nAt 5 p.m.\, please click here for our YouTube channel where you will find the live Council meeting.
URL:https://www.stclairtownship.ca/event/operating-budget-meeting-2/
END:VEVENT
BEGIN:VEVENT
DTSTART;VALUE=DATE:20220224
DTEND;VALUE=DATE:20220225
DTSTAMP:20260423T193224
CREATED:20220207T160227Z
LAST-MODIFIED:20220207T160227Z
UID:9436-1645660800-1645747199@www.stclairtownship.ca
SUMMARY:Tax Due Date
DESCRIPTION:Click here for further information.
URL:https://www.stclairtownship.ca/event/tax-due-date-15/
END:VEVENT
BEGIN:VEVENT
DTSTART;TZID=UTC:20220222T180000
DTEND;TZID=UTC:20220222T180000
DTSTAMP:20260423T193224
CREATED:20220207T160035Z
LAST-MODIFIED:20220207T160035Z
UID:9432-1645552800-1645552800@www.stclairtownship.ca
SUMMARY:Council Meeting
DESCRIPTION:Click here for further information. \nAt 6 p.m.\, please click here for our YouTube channel where you will find the live Council meeting.
URL:https://www.stclairtownship.ca/event/council-meeting-115/
END:VEVENT
BEGIN:VEVENT
DTSTART;TZID=UTC:20220207T150000
DTEND;TZID=UTC:20220207T150000
DTSTAMP:20260423T193224
CREATED:20220207T160007Z
LAST-MODIFIED:20220207T160007Z
UID:9430-1644246000-1644246000@www.stclairtownship.ca
SUMMARY:Council Meeting
DESCRIPTION:Click here for further information. \nAt 3 p.m.\, please click here for our YouTube channel where you will find the live Council meeting.
URL:https://www.stclairtownship.ca/event/council-meeting-114/
END:VEVENT
BEGIN:VEVENT
DTSTART;VALUE=DATE:20211208
DTEND;VALUE=DATE:20211209
DTSTAMP:20260423T193224
CREATED:20210210T155238Z
LAST-MODIFIED:20210210T155238Z
UID:8741-1638921600-1639007999@www.stclairtownship.ca
SUMMARY:The Jean Collective: Personal Growth-Being an Elected Councillor can be Challenging. What Do We Need to Cope?
DESCRIPTION:Click here for further information.
URL:https://www.stclairtownship.ca/event/the-jean-collective-personal-growth-being-an-elected-councillor-can-be-challenging-what-do-we-need-to-cope/
END:VEVENT
BEGIN:VEVENT
DTSTART;TZID=UTC:20211125T170000
DTEND;TZID=UTC:20211125T170000
DTSTAMP:20260423T193224
CREATED:20211109T145729Z
LAST-MODIFIED:20211109T145729Z
UID:9315-1637859600-1637859600@www.stclairtownship.ca
SUMMARY:Capital Budget Meeting
DESCRIPTION:Click here for further information. \nAt 5 p.m.\, please click here for our YouTube channel where you will find the live Council meeting.
URL:https://www.stclairtownship.ca/event/capital-budget-meeting-3/
END:VEVENT
BEGIN:VEVENT
DTSTART;TZID=UTC:20211115T180000
DTEND;TZID=UTC:20211115T180000
DTSTAMP:20260423T193224
CREATED:20211008T140217Z
LAST-MODIFIED:20211008T140217Z
UID:9280-1636999200-1636999200@www.stclairtownship.ca
SUMMARY:Council Meeting
DESCRIPTION:Click here for further information. \nAt 6 p.m.\, please click here for our YouTube channel where you will find the live Council meeting.
URL:https://www.stclairtownship.ca/event/council-meeting-113/
END:VEVENT
BEGIN:VEVENT
DTSTART;VALUE=DATE:20211110
DTEND;VALUE=DATE:20211111
DTSTAMP:20260423T193224
CREATED:20210210T155142Z
LAST-MODIFIED:20210210T155142Z
UID:8739-1636502400-1636588799@www.stclairtownship.ca
SUMMARY:The Jean Collective: Raising Your Profile Part 2: in the Media
DESCRIPTION:Click here for further information.
URL:https://www.stclairtownship.ca/event/the-jean-collective-raising-your-profile-part-2-in-the-media/
END:VEVENT
BEGIN:VEVENT
DTSTART;TZID=UTC:20211101T150000
DTEND;TZID=UTC:20211101T150000
DTSTAMP:20260423T193224
CREATED:20211008T140028Z
LAST-MODIFIED:20211008T140028Z
UID:9277-1635778800-1635778800@www.stclairtownship.ca
SUMMARY:Council Meeting
DESCRIPTION:Click here for further information. \nAt 3 p.m.\, please click here for our YouTube channel where you will find the live Council meeting.
URL:https://www.stclairtownship.ca/event/council-meeting-112/
END:VEVENT
BEGIN:VEVENT
DTSTART;TZID=UTC:20211031T110000
DTEND;TZID=UTC:20211031T170000
DTSTAMP:20260423T193224
CREATED:20211014T190609Z
LAST-MODIFIED:20211014T190609Z
UID:9296-1635678000-1635699600@www.stclairtownship.ca
SUMMARY:Get Vaccinated for COVID-19 at the Moore Sports Complex on Halloween
DESCRIPTION:GET VACCINATED FOR COVID-19 AT THE MOORE SPORTS COMPLEX ON HALLOWEEN.  Click here for further information.
URL:https://www.stclairtownship.ca/event/get-vaccinated-for-covid-19-at-the-moore-sports-complex-on-halloween/
LOCATION:Mooretown Sports Complex\, 1166 Emily Street\, Mooretown\, Ontario\, N0N 1M0\, Canada
END:VEVENT
BEGIN:VEVENT
DTSTART;TZID=UTC:20211030T090000
DTEND;TZID=UTC:20211030T140000
DTSTAMP:20260423T193224
CREATED:20210326T195612Z
LAST-MODIFIED:20210326T195641Z
UID:8868-1635584400-1635602400@www.stclairtownship.ca
SUMMARY:Household Hazardous Waste Day
DESCRIPTION:Click here for further information.
URL:https://www.stclairtownship.ca/event/household-hazardous-waste-day-10/
LOCATION:Clean Harbors Canada\, 4090 Telfer Road\, Corunna\, Ontario\, N0N 1G0\, Canada
END:VEVENT
BEGIN:VEVENT
DTSTART;TZID=UTC:20211023T090000
DTEND;TZID=UTC:20211023T160000
DTSTAMP:20260423T193224
CREATED:20211008T133201Z
LAST-MODIFIED:20211008T133201Z
UID:9270-1634979600-1635004800@www.stclairtownship.ca
SUMMARY:LC Petrolia Optimist Craft & Gift Show
DESCRIPTION:LC Petrolia Optimist Craft & Gift Show\nDate – Saturday\, October 23rd\, 2021\nLocation – Petrolia Market 396 Fletcher Street\, Petrolia\, ON\, N0N 1R0\nTime – 9 am to 4 pm \nFree Admission\nRain or Shine\,\nOver 60 vendors\nToonie Table Raffle \nFood & Refreshments available for take out\nStart your Christmas Shopping Early \nClick here for further information
URL:https://www.stclairtownship.ca/event/lc-petrolia-optimist-craft-gift-show/
LOCATION:Petrolia Market\, 396 Fletcher Street\, Petrolia\, Ontario\, N0N 1R0\, Canada
END:VEVENT
BEGIN:VEVENT
DTSTART;VALUE=DATE:20211020
DTEND;VALUE=DATE:20211021
DTSTAMP:20260423T193224
CREATED:20210210T155048Z
LAST-MODIFIED:20210210T155048Z
UID:8737-1634688000-1634774399@www.stclairtownship.ca
SUMMARY:The Jean Collective: Raising Your Profile Part 1: Voters
DESCRIPTION:Click here for further information.
URL:https://www.stclairtownship.ca/event/the-jean-collective-raising-your-profile-part-1-voters/
END:VEVENT
BEGIN:VEVENT
DTSTART;TZID=UTC:20211018T180000
DTEND;TZID=UTC:20211018T180000
DTSTAMP:20260423T193224
CREATED:20211008T135833Z
LAST-MODIFIED:20211008T140106Z
UID:9275-1634580000-1634580000@www.stclairtownship.ca
SUMMARY:Council Meeting
DESCRIPTION:Click here for further information. \nAt 6 p.m.\, please click here for our YouTube channel where you will find the live Council meeting.
URL:https://www.stclairtownship.ca/event/council-meeting-111/
END:VEVENT
BEGIN:VEVENT
DTSTART;TZID=UTC:20211004T150000
DTEND;TZID=UTC:20211004T150000
DTSTAMP:20260423T193224
CREATED:20210824T133312Z
LAST-MODIFIED:20210824T133312Z
UID:9220-1633359600-1633359600@www.stclairtownship.ca
SUMMARY:Council Meeting
DESCRIPTION:Click here for further information. \nAt 3 p.m.\, please click here for our YouTube channel where you will find the live Council meeting.
URL:https://www.stclairtownship.ca/event/council-meeting-110/
END:VEVENT
BEGIN:VEVENT
DTSTART;VALUE=DATE:20210929
DTEND;VALUE=DATE:20210930
DTSTAMP:20260423T193224
CREATED:20210712T194615Z
LAST-MODIFIED:20210712T194615Z
UID:9138-1632873600-1632959999@www.stclairtownship.ca
SUMMARY:Tax Due Date
DESCRIPTION:For further information\, click here.
URL:https://www.stclairtownship.ca/event/tax-due-date-18/
END:VEVENT
BEGIN:VEVENT
DTSTART;TZID=UTC:20210925T090000
DTEND;TZID=UTC:20210925T140000
DTSTAMP:20260423T193224
CREATED:20210326T195534Z
LAST-MODIFIED:20210326T195534Z
UID:8866-1632560400-1632578400@www.stclairtownship.ca
SUMMARY:Household Hazardous Waste Day
DESCRIPTION:Click here for further information.
URL:https://www.stclairtownship.ca/event/household-hazardous-waste-day-9/
LOCATION:Clean Harbors Canada\, 4090 Telfer Road\, Corunna\, Ontario\, N0N 1G0\, Canada
END:VEVENT
BEGIN:VEVENT
DTSTART;TZID=UTC:20210920T180000
DTEND;TZID=UTC:20210920T180000
DTSTAMP:20260423T193224
CREATED:20210824T133236Z
LAST-MODIFIED:20210824T133344Z
UID:9218-1632160800-1632160800@www.stclairtownship.ca
SUMMARY:Council Meeting
DESCRIPTION:Click here for further information. \nAt 6 p.m.\, please click here for our YouTube channel where you will find the live Council meeting.
URL:https://www.stclairtownship.ca/event/council-meeting-109/
END:VEVENT
BEGIN:VEVENT
DTSTART;TZID=UTC:20210918T120000
DTEND;TZID=UTC:20210918T160000
DTSTAMP:20260423T193224
CREATED:20210830T195003Z
LAST-MODIFIED:20210830T195003Z
UID:9226-1631966400-1631980800@www.stclairtownship.ca
SUMMARY:Historic Hillsdale Cemetery Tour
DESCRIPTION:Historic Hillsdale Cemetery west of Petrolia on Petrolia Line will be the scene of the popular guided walking tour on Sept. 18 from noon to 4 p.m. Tickets are just $20 each and a tour begins every 15 minutes. Walk into Lambton County’s past to the days of oil barons\, tragic tales\, quirky characters\, and maybe\, even a love story or two. For more information about this intriguing and unusual event\, or to obtain tickets\, please call 519-882-2350.
URL:https://www.stclairtownship.ca/event/historic-hillsdale-cemetery-tour/
END:VEVENT
BEGIN:VEVENT
DTSTART;VALUE=DATE:20210915
DTEND;VALUE=DATE:20210916
DTSTAMP:20260423T193224
CREATED:20210210T154858Z
LAST-MODIFIED:20210210T154858Z
UID:8735-1631664000-1631750399@www.stclairtownship.ca
SUMMARY:The Jean Collective: Developing & Enhancing Your Skill Set
DESCRIPTION:Click here for further information.
URL:https://www.stclairtownship.ca/event/the-jean-collective-developing-enhancing-your-skill-set/
END:VEVENT
END:VCALENDAR